Package: RaggedExperiment Version: 1.21.0 Command: /Library/Frameworks/R.framework/Resources/bin/R CMD build --keep-empty-dirs --no-resave-data RaggedExperiment StartedAt: 2022-07-07 03:04:37 -0400 (Thu, 07 Jul 2022) EndedAt: 2022-07-07 03:05:12 -0400 (Thu, 07 Jul 2022) EllapsedTime: 34.8 seconds RetCode: 0 Status: OK PackageFile: RaggedExperiment_1.21.0.tar.gz PackageFileSize: 369.4 KiB