Package: RaggedExperiment Version: 1.22.0 Command: /Library/Frameworks/R.framework/Resources/bin/R CMD check --install=check:RaggedExperiment.install-out.txt --library=/Library/Frameworks/R.framework/Resources/library --no-vignettes --timings RaggedExperiment_1.22.0.tar.gz StartedAt: 2023-04-10 22:05:17 -0400 (Mon, 10 Apr 2023) EndedAt: 2023-04-10 22:07:46 -0400 (Mon, 10 Apr 2023) EllapsedTime: 149.1 seconds RetCode: 0 Status: OK CheckDir: RaggedExperiment.Rcheck Warnings: 0