Package: RaggedExperiment Version: 1.22.0 Command: /Library/Frameworks/R.framework/Resources/bin/R CMD INSTALL RaggedExperiment StartedAt: 2023-04-10 15:11:01 -0400 (Mon, 10 Apr 2023) EndedAt: 2023-04-10 15:11:28 -0400 (Mon, 10 Apr 2023) EllapsedTime: 27.1 seconds RetCode: 0 Status: OK