Package: Rbwa Version: 1.1.0 Command: /Library/Frameworks/R.framework/Resources/bin/R CMD INSTALL Rbwa StartedAt: 2022-07-10 15:07:25 -0400 (Sun, 10 Jul 2022) EndedAt: 2022-07-10 15:07:27 -0400 (Sun, 10 Jul 2022) EllapsedTime: 1.4 seconds RetCode: 1 Status: ERROR