Package: Rhdf5lib Version: 1.20.0 Command: rm -rf Rhdf5lib.buildbin-libdir && mkdir Rhdf5lib.buildbin-libdir && /Users/biocbuild/BBS/utils/build-universal.sh Rhdf5lib_1.20.0.tar.gz /Library/Frameworks/R.framework/Resources/bin/R Rhdf5lib.buildbin-libdir StartedAt: 2023-04-11 00:00:24 -0400 (Tue, 11 Apr 2023) EndedAt: 2023-04-11 00:07:42 -0400 (Tue, 11 Apr 2023) EllapsedTime: 437.7 seconds RetCode: 0 Status: OK PackageFile: Rhdf5lib_1.20.0.tgz PackageFileSize: 9.478 MiB