Package: Rhdf5lib Version: 1.20.0 Command: /Library/Frameworks/R.framework/Resources/bin/R CMD INSTALL Rhdf5lib StartedAt: 2023-04-10 15:05:39 -0400 (Mon, 10 Apr 2023) EndedAt: 2023-04-10 15:11:36 -0400 (Mon, 10 Apr 2023) EllapsedTime: 357.1 seconds RetCode: 0 Status: OK