Package: Rsubread Version: 2.12.3 Command: rm -rf Rsubread.buildbin-libdir && mkdir Rsubread.buildbin-libdir && /Users/biocbuild/BBS/utils/build-universal.sh Rsubread_2.12.3.tar.gz /Library/Frameworks/R.framework/Resources/bin/R Rsubread.buildbin-libdir StartedAt: 2023-04-11 00:02:20 -0400 (Tue, 11 Apr 2023) EndedAt: 2023-04-11 00:03:16 -0400 (Tue, 11 Apr 2023) EllapsedTime: 55.7 seconds RetCode: 0 Status: OK PackageFile: Rsubread_2.12.3.tgz PackageFileSize: 13.19 MiB