Package: Rsubread Version: 2.12.3 Command: /home/biocbuild/bbs-3.16-bioc/R/bin/R CMD INSTALL Rsubread StartedAt: 2023-04-10 15:07:30 -0400 (Mon, 10 Apr 2023) EndedAt: 2023-04-10 15:08:08 -0400 (Mon, 10 Apr 2023) EllapsedTime: 38.3 seconds RetCode: 0 Status: OK