Package: SIAMCAT Version: 2.2.0 Command: rm -rf SIAMCAT.buildbin-libdir && mkdir SIAMCAT.buildbin-libdir && /Users/biocbuild/BBS/utils/build-universal.sh SIAMCAT_2.2.0.tar.gz /Library/Frameworks/R.framework/Resources/bin/R SIAMCAT.buildbin-libdir StartedAt: 2023-04-11 00:05:10 -0400 (Tue, 11 Apr 2023) EndedAt: 2023-04-11 00:05:52 -0400 (Tue, 11 Apr 2023) EllapsedTime: 41.8 seconds RetCode: 0 Status: OK PackageFile: SIAMCAT_2.2.0.tgz PackageFileSize: 10.6 MiB