Package: SIAMCAT Version: 2.2.0 Command: /Library/Frameworks/R.framework/Resources/bin/R CMD build --keep-empty-dirs --no-resave-data SIAMCAT StartedAt: 2023-04-10 18:01:49 -0400 (Mon, 10 Apr 2023) EndedAt: 2023-04-10 18:05:18 -0400 (Mon, 10 Apr 2023) EllapsedTime: 209.5 seconds RetCode: 0 Status: OK PackageFile: SIAMCAT_2.2.0.tar.gz PackageFileSize: 18.71 MiB