Package: SIAMCAT Version: 2.2.0 Command: /Library/Frameworks/R.framework/Resources/bin/R CMD check --install=check:SIAMCAT.install-out.txt --library=/Library/Frameworks/R.framework/Resources/library --no-vignettes --timings SIAMCAT_2.2.0.tar.gz StartedAt: 2023-04-10 22:40:39 -0400 (Mon, 10 Apr 2023) EndedAt: 2023-04-10 22:44:55 -0400 (Mon, 10 Apr 2023) EllapsedTime: 256.5 seconds RetCode: 0 Status: WARNINGS CheckDir: SIAMCAT.Rcheck Warnings: 1