Package: SIAMCAT Version: 2.2.0 Command: /home/biocbuild/bbs-3.16-bioc/R/bin/R CMD check --install=check:SIAMCAT.install-out.txt --library=/home/biocbuild/bbs-3.16-bioc/R/site-library --timings SIAMCAT_2.2.0.tar.gz StartedAt: 2023-04-11 00:00:46 -0400 (Tue, 11 Apr 2023) EndedAt: 2023-04-11 00:10:36 -0400 (Tue, 11 Apr 2023) EllapsedTime: 590.1 seconds RetCode: 0 Status: WARNINGS CheckDir: SIAMCAT.Rcheck Warnings: 1