Package: SMAP Version: 1.62.0 Command: /Library/Frameworks/R.framework/Resources/bin/R CMD build --keep-empty-dirs --no-resave-data SMAP StartedAt: 2023-04-10 18:05:45 -0400 (Mon, 10 Apr 2023) EndedAt: 2023-04-10 18:06:05 -0400 (Mon, 10 Apr 2023) EllapsedTime: 19.2 seconds RetCode: 0 Status: OK PackageFile: SMAP_1.62.0.tar.gz PackageFileSize: 4.374 MiB