Package: SMAP Version: 1.62.0 Command: rm -rf SMAP.buildbin-libdir && mkdir SMAP.buildbin-libdir && F:\biocbuild\bbs-3.16-bioc\R\bin\R.exe CMD INSTALL --build --library=SMAP.buildbin-libdir SMAP_1.62.0.tar.gz StartedAt: 2023-04-11 08:48:59 -0400 (Tue, 11 Apr 2023) EndedAt: 2023-04-11 08:49:15 -0400 (Tue, 11 Apr 2023) EllapsedTime: 16.2 seconds RetCode: 0 Status: OK PackageFile: SMAP_1.62.0.zip PackageFileSize: 4.464 MiB