Package: SWATH2stats Version: 1.28.0 Command: rm -rf SWATH2stats.buildbin-libdir && mkdir SWATH2stats.buildbin-libdir && /Users/biocbuild/BBS/utils/build-universal.sh SWATH2stats_1.28.0.tar.gz /Library/Frameworks/R.framework/Resources/bin/R SWATH2stats.buildbin-libdir StartedAt: 2023-04-11 00:07:56 -0400 (Tue, 11 Apr 2023) EndedAt: 2023-04-11 00:08:20 -0400 (Tue, 11 Apr 2023) EllapsedTime: 23.9 seconds RetCode: 0 Status: OK PackageFile: SWATH2stats_1.28.0.tgz PackageFileSize: 3.16 MiB