Package: SigCheck Version: 2.29.0 Command: /Library/Frameworks/R.framework/Resources/bin/R CMD INSTALL SigCheck StartedAt: 2022-07-10 19:39:50 -0400 (Sun, 10 Jul 2022) EndedAt: 2022-07-10 19:40:57 -0400 (Sun, 10 Jul 2022) EllapsedTime: 66.7 seconds RetCode: 0 Status: OK