Package: SigCheck Version: 2.30.0 Command: /home/biocbuild/bbs-3.16-bioc/R/bin/R CMD check --install=check:SigCheck.install-out.txt --library=/home/biocbuild/bbs-3.16-bioc/R/site-library --timings SigCheck_2.30.0.tar.gz StartedAt: 2023-04-11 00:00:58 -0400 (Tue, 11 Apr 2023) EndedAt: 2023-04-11 00:09:14 -0400 (Tue, 11 Apr 2023) EllapsedTime: 495.4 seconds RetCode: 0 Status: OK CheckDir: SigCheck.Rcheck Warnings: 0