Package: VegaMC Version: 3.36.0 Command: /home/biocbuild/bbs-3.16-bioc/R/bin/R CMD check --install=check:VegaMC.install-out.txt --library=/home/biocbuild/bbs-3.16-bioc/R/site-library --timings VegaMC_3.36.0.tar.gz StartedAt: 2023-04-11 00:46:59 -0400 (Tue, 11 Apr 2023) EndedAt: 2023-04-11 00:48:57 -0400 (Tue, 11 Apr 2023) EllapsedTime: 118.4 seconds RetCode: 0 Status: OK CheckDir: VegaMC.Rcheck Warnings: 0