Package: VegaMC Version: 3.36.0 Command: chmod a+r VegaMC -R && F:\biocbuild\bbs-3.16-bioc\R\bin\R.exe CMD build --keep-empty-dirs --no-resave-data VegaMC StartedAt: 2023-04-10 22:17:51 -0400 (Mon, 10 Apr 2023) EndedAt: 2023-04-10 22:18:27 -0400 (Mon, 10 Apr 2023) EllapsedTime: 35.6 seconds RetCode: 0 Status: OK PackageFile: VegaMC_3.36.0.tar.gz PackageFileSize: 1.667 MiB