Package: VegaMC Version: 3.36.0 Command: F:\biocbuild\bbs-3.16-bioc\R\bin\R.exe CMD INSTALL VegaMC StartedAt: 2023-04-10 16:01:25 -0400 (Mon, 10 Apr 2023) EndedAt: 2023-04-10 16:01:47 -0400 (Mon, 10 Apr 2023) EllapsedTime: 21.3 seconds RetCode: 0 Status: OK