Package: anota2seq Version: 1.20.0 Command: /Library/Frameworks/R.framework/Resources/bin/R CMD check --install=check:anota2seq.install-out.txt --library=/Library/Frameworks/R.framework/Resources/library --no-vignettes --timings anota2seq_1.20.0.tar.gz StartedAt: 2023-04-10 18:47:54 -0400 (Mon, 10 Apr 2023) EndedAt: 2023-04-10 18:51:51 -0400 (Mon, 10 Apr 2023) EllapsedTime: 237.2 seconds RetCode: 0 Status: OK CheckDir: anota2seq.Rcheck Warnings: 0