Package: apComplex Version: 2.64.0 Command: rm -rf apComplex.buildbin-libdir && mkdir apComplex.buildbin-libdir && /Users/biocbuild/BBS/utils/build-universal.sh apComplex_2.64.0.tar.gz /Library/Frameworks/R.framework/Resources/bin/R apComplex.buildbin-libdir StartedAt: 2023-04-10 23:32:14 -0400 (Mon, 10 Apr 2023) EndedAt: 2023-04-10 23:32:34 -0400 (Mon, 10 Apr 2023) EllapsedTime: 19.8 seconds RetCode: 0 Status: OK PackageFile: apComplex_2.64.0.tgz PackageFileSize: 685.1 KiB