Package: apComplex Version: 2.64.0 Command: /Library/Frameworks/R.framework/Resources/bin/R CMD build --keep-empty-dirs --no-resave-data apComplex StartedAt: 2023-04-10 15:48:37 -0400 (Mon, 10 Apr 2023) EndedAt: 2023-04-10 15:49:01 -0400 (Mon, 10 Apr 2023) EllapsedTime: 23.7 seconds RetCode: 0 Status: OK PackageFile: apComplex_2.64.0.tar.gz PackageFileSize: 627.3 KiB