Package: aroma.light Version: 3.27.0 Command: rm -rf aroma.light.buildbin-libdir && mkdir aroma.light.buildbin-libdir && /Users/biocbuild/BBS/utils/build-universal.sh aroma.light_3.27.0.tar.gz /Library/Frameworks/R.framework/Resources/bin/R aroma.light.buildbin-libdir StartedAt: 2022-07-07 07:29:17 -0400 (Thu, 07 Jul 2022) EndedAt: 2022-07-07 07:29:28 -0400 (Thu, 07 Jul 2022) EllapsedTime: 11.1 seconds RetCode: 0 Status: OK PackageFile: aroma.light_3.27.0.tgz PackageFileSize: 596.2 KiB