Package: aroma.light Version: 3.27.0 Command: /Library/Frameworks/R.framework/Resources/bin/R CMD build --keep-empty-dirs --no-resave-data aroma.light StartedAt: 2022-07-10 20:28:51 -0400 (Sun, 10 Jul 2022) EndedAt: 2022-07-10 20:28:52 -0400 (Sun, 10 Jul 2022) EllapsedTime: 1.1 seconds RetCode: 0 Status: OK PackageFile: aroma.light_3.27.0.tar.gz PackageFileSize: 379.1 KiB