Package: aroma.light Version: 3.28.0 Command: rm -rf aroma.light.buildbin-libdir && mkdir aroma.light.buildbin-libdir && F:\biocbuild\bbs-3.16-bioc\R\bin\R.exe CMD INSTALL --build --library=aroma.light.buildbin-libdir aroma.light_3.28.0.tar.gz StartedAt: 2023-04-11 07:33:44 -0400 (Tue, 11 Apr 2023) EndedAt: 2023-04-11 07:33:55 -0400 (Tue, 11 Apr 2023) EllapsedTime: 10.5 seconds RetCode: 0 Status: OK PackageFile: aroma.light_3.28.0.zip PackageFileSize: 607.1 KiB