Package: aroma.light Version: 3.28.0 Command: chmod a+r aroma.light -R && F:\biocbuild\bbs-3.16-bioc\R\bin\R.exe CMD build --keep-empty-dirs --no-resave-data aroma.light StartedAt: 2023-04-10 17:03:13 -0400 (Mon, 10 Apr 2023) EndedAt: 2023-04-10 17:03:17 -0400 (Mon, 10 Apr 2023) EllapsedTime: 4.0 seconds RetCode: 0 Status: OK PackageFile: aroma.light_3.28.0.tar.gz PackageFileSize: 379.1 KiB