Package: bayNorm Version: 1.16.2 Command: /Library/Frameworks/R.framework/Resources/bin/R CMD check --install=check:bayNorm.install-out.txt --library=/Library/Frameworks/R.framework/Resources/library --no-vignettes --timings bayNorm_1.16.2.tar.gz StartedAt: 2023-04-10 18:55:40 -0400 (Mon, 10 Apr 2023) EndedAt: 2023-04-10 18:58:03 -0400 (Mon, 10 Apr 2023) EllapsedTime: 143.0 seconds RetCode: 0 Status: OK CheckDir: bayNorm.Rcheck Warnings: 0