Package: bayNorm Version: 1.16.2 Command: /home/biocbuild/bbs-3.16-bioc/R/bin/R CMD build --keep-empty-dirs --no-resave-data bayNorm StartedAt: 2023-04-10 16:07:40 -0400 (Mon, 10 Apr 2023) EndedAt: 2023-04-10 16:08:47 -0400 (Mon, 10 Apr 2023) EllapsedTime: 67.0 seconds RetCode: 0 Status: OK PackageFile: bayNorm_1.16.2.tar.gz PackageFileSize: 1.526 MiB