Package: biodbHmdb Version: 1.4.0 Command: /home/biocbuild/bbs-3.16-bioc/R/bin/R CMD build --keep-empty-dirs --no-resave-data biodbHmdb StartedAt: 2023-04-10 16:11:58 -0400 (Mon, 10 Apr 2023) EndedAt: 2023-04-10 16:12:42 -0400 (Mon, 10 Apr 2023) EllapsedTime: 43.9 seconds RetCode: 0 Status: OK PackageFile: biodbHmdb_1.4.0.tar.gz PackageFileSize: 391.7 KiB