Package: biodbHmdb Version: 1.4.0 Command: rm -rf biodbHmdb.buildbin-libdir && mkdir biodbHmdb.buildbin-libdir && F:\biocbuild\bbs-3.16-bioc\R\bin\R.exe CMD INSTALL --build --library=biodbHmdb.buildbin-libdir biodbHmdb_1.4.0.tar.gz StartedAt: 2023-04-11 07:37:58 -0400 (Tue, 11 Apr 2023) EndedAt: 2023-04-11 07:38:37 -0400 (Tue, 11 Apr 2023) EllapsedTime: 38.8 seconds RetCode: 0 Status: OK PackageFile: biodbHmdb_1.4.0.zip PackageFileSize: 948.7 KiB