Package: biodbHmdb Version: 1.4.0 Command: chmod a+r biodbHmdb -R && F:\biocbuild\bbs-3.16-bioc\R\bin\R.exe CMD build --keep-empty-dirs --no-resave-data biodbHmdb StartedAt: 2023-04-10 17:21:25 -0400 (Mon, 10 Apr 2023) EndedAt: 2023-04-10 17:23:05 -0400 (Mon, 10 Apr 2023) EllapsedTime: 100.3 seconds RetCode: 0 Status: OK PackageFile: biodbHmdb_1.4.0.tar.gz PackageFileSize: 393.9 KiB