Package: blima Version: 1.32.0 Command: rm -rf blima.buildbin-libdir && mkdir blima.buildbin-libdir && F:\biocbuild\bbs-3.16-bioc\R\bin\R.exe CMD INSTALL --build --library=blima.buildbin-libdir blima_1.32.0.tar.gz StartedAt: 2023-04-11 07:38:49 -0400 (Tue, 11 Apr 2023) EndedAt: 2023-04-11 07:39:26 -0400 (Tue, 11 Apr 2023) EllapsedTime: 37.0 seconds RetCode: 0 Status: OK PackageFile: blima_1.32.0.zip PackageFileSize: 741.6 KiB