Package: blima Version: 1.32.0 Command: chmod a+r blima -R && F:\biocbuild\bbs-3.16-bioc\R\bin\R.exe CMD build --keep-empty-dirs --no-resave-data blima StartedAt: 2023-04-10 17:27:37 -0400 (Mon, 10 Apr 2023) EndedAt: 2023-04-10 17:33:03 -0400 (Mon, 10 Apr 2023) EllapsedTime: 325.8 seconds RetCode: 0 Status: OK PackageFile: blima_1.32.0.tar.gz PackageFileSize: 265.1 KiB