Package: blima Version: 1.32.0 Command: F:\biocbuild\bbs-3.16-bioc\R\bin\R.exe CMD check --no-multiarch --install=check:blima.install-out.txt --library=F:\biocbuild\bbs-3.16-bioc\R\library --no-vignettes --timings blima_1.32.0.tar.gz StartedAt: 2023-04-10 23:27:05 -0400 (Mon, 10 Apr 2023) EndedAt: 2023-04-10 23:29:21 -0400 (Mon, 10 Apr 2023) EllapsedTime: 135.9 seconds RetCode: 0 Status: WARNINGS CheckDir: blima.Rcheck Warnings: 1