Package: borealis Version: 1.2.2 Command: /Library/Frameworks/R.framework/Resources/bin/R CMD INSTALL borealis StartedAt: 2023-04-10 15:35:32 -0400 (Mon, 10 Apr 2023) EndedAt: 2023-04-10 15:36:16 -0400 (Mon, 10 Apr 2023) EllapsedTime: 43.9 seconds RetCode: 0 Status: OK