Package: cbpManager Version: 1.5.0 Command: rm -rf cbpManager.buildbin-libdir && mkdir cbpManager.buildbin-libdir && /Users/biocbuild/BBS/utils/build-universal.sh cbpManager_1.5.0.tar.gz /Library/Frameworks/R.framework/Resources/bin/R cbpManager.buildbin-libdir StartedAt: 2022-07-07 07:38:41 -0400 (Thu, 07 Jul 2022) EndedAt: 2022-07-07 07:39:04 -0400 (Thu, 07 Jul 2022) EllapsedTime: 22.1 seconds RetCode: 0 Status: OK PackageFile: cbpManager_1.5.0.tgz PackageFileSize: 3.181 MiB