Package: cbpManager Version: 1.6.0 Command: rm -rf cbpManager.buildbin-libdir && mkdir cbpManager.buildbin-libdir && /Users/biocbuild/BBS/utils/build-universal.sh cbpManager_1.6.0.tar.gz /Library/Frameworks/R.framework/Resources/bin/R cbpManager.buildbin-libdir StartedAt: 2023-04-10 23:35:37 -0400 (Mon, 10 Apr 2023) EndedAt: 2023-04-10 23:35:50 -0400 (Mon, 10 Apr 2023) EllapsedTime: 13.8 seconds RetCode: 0 Status: OK PackageFile: cbpManager_1.6.0.tgz PackageFileSize: 3.694 MiB