Package: cbpManager Version: 1.6.0 Command: /Library/Frameworks/R.framework/Resources/bin/R CMD check --install=check:cbpManager.install-out.txt --library=/Library/Frameworks/R.framework/Resources/library --no-vignettes --timings cbpManager_1.6.0.tar.gz StartedAt: 2023-04-10 19:14:55 -0400 (Mon, 10 Apr 2023) EndedAt: 2023-04-10 19:16:07 -0400 (Mon, 10 Apr 2023) EllapsedTime: 72.6 seconds RetCode: 0 Status: WARNINGS CheckDir: cbpManager.Rcheck Warnings: 2