Package: chromswitch Version: 1.20.0 Command: rm -rf chromswitch.buildbin-libdir && mkdir chromswitch.buildbin-libdir && /Users/biocbuild/BBS/utils/build-universal.sh chromswitch_1.20.0.tar.gz /Library/Frameworks/R.framework/Resources/bin/R chromswitch.buildbin-libdir StartedAt: 2023-04-10 23:36:56 -0400 (Mon, 10 Apr 2023) EndedAt: 2023-04-10 23:37:33 -0400 (Mon, 10 Apr 2023) EllapsedTime: 36.6 seconds RetCode: 0 Status: OK PackageFile: chromswitch_1.20.0.tgz PackageFileSize: 1.419 MiB