Package: clstutils Version: 1.46.0 Command: /Library/Frameworks/R.framework/Resources/bin/R CMD build --keep-empty-dirs --no-resave-data clstutils StartedAt: 2023-04-10 16:09:53 -0400 (Mon, 10 Apr 2023) EndedAt: 2023-04-10 16:10:14 -0400 (Mon, 10 Apr 2023) EllapsedTime: 21.5 seconds RetCode: 0 Status: OK PackageFile: clstutils_1.46.0.tar.gz PackageFileSize: 2.694 MiB