Package: compartmap Version: 1.16.0 Command: /home/biocbuild/bbs-3.16-bioc/R/bin/R CMD check --install=check:compartmap.install-out.txt --library=/home/biocbuild/bbs-3.16-bioc/R/site-library --timings compartmap_1.16.0.tar.gz StartedAt: 2023-04-10 19:53:01 -0400 (Mon, 10 Apr 2023) EndedAt: 2023-04-10 19:59:53 -0400 (Mon, 10 Apr 2023) EllapsedTime: 411.4 seconds RetCode: 0 Status: OK CheckDir: compartmap.Rcheck Warnings: 0