git_url: https://git.bioconductor.org/packages/compcodeR git_branch: RELEASE_3_16 git_last_commit: 0febb89 git_last_commit_date: 2022-11-01 11:09:36 -0400 (Tue, 01 Nov 2022) Package: compcodeR Version: 1.34.0 Maintainer: Charlotte Soneson MaintainerEmail: charlottesoneson at gmail.com