Package: crisprViz Version: 1.0.0 Command: /Library/Frameworks/R.framework/Resources/bin/R CMD check --install=check:crisprViz.install-out.txt --library=/Library/Frameworks/R.framework/Resources/library --no-vignettes --timings crisprViz_1.0.0.tar.gz StartedAt: 2023-04-10 19:40:05 -0400 (Mon, 10 Apr 2023) EndedAt: 2023-04-10 19:46:21 -0400 (Mon, 10 Apr 2023) EllapsedTime: 376.3 seconds RetCode: 0 Status: OK CheckDir: crisprViz.Rcheck Warnings: 0