Package: ctsGE Version: 1.24.0 Command: rm -rf ctsGE.buildbin-libdir && mkdir ctsGE.buildbin-libdir && /Users/biocbuild/BBS/utils/build-universal.sh ctsGE_1.24.0.tar.gz /Library/Frameworks/R.framework/Resources/bin/R ctsGE.buildbin-libdir StartedAt: 2023-04-10 23:39:14 -0400 (Mon, 10 Apr 2023) EndedAt: 2023-04-10 23:39:22 -0400 (Mon, 10 Apr 2023) EllapsedTime: 8.0 seconds RetCode: 0 Status: OK PackageFile: ctsGE_1.24.0.tgz PackageFileSize: 1.1 MiB