Package: ctsGE Version: 1.24.0 Command: /home/biocbuild/bbs-3.16-bioc/R/bin/R CMD build --keep-empty-dirs --no-resave-data ctsGE StartedAt: 2023-04-10 16:29:56 -0400 (Mon, 10 Apr 2023) EndedAt: 2023-04-10 16:30:16 -0400 (Mon, 10 Apr 2023) EllapsedTime: 20.0 seconds RetCode: 0 Status: OK PackageFile: ctsGE_1.24.0.tar.gz PackageFileSize: 1.066 MiB