Package: ctsGE Version: 1.24.0 Command: /home/biocbuild/bbs-3.16-bioc/R/bin/R CMD INSTALL ctsGE StartedAt: 2023-04-10 15:11:54 -0400 (Mon, 10 Apr 2023) EndedAt: 2023-04-10 15:12:12 -0400 (Mon, 10 Apr 2023) EllapsedTime: 18.4 seconds RetCode: 0 Status: OK