Package: densvis Version: 1.7.1 Command: rm -rf densvis.buildbin-libdir && mkdir densvis.buildbin-libdir && /Users/biocbuild/BBS/utils/build-universal.sh densvis_1.7.1.tar.gz /Library/Frameworks/R.framework/Resources/bin/R densvis.buildbin-libdir StartedAt: 2022-07-07 07:48:37 -0400 (Thu, 07 Jul 2022) EndedAt: 2022-07-07 07:49:30 -0400 (Thu, 07 Jul 2022) EllapsedTime: 53.6 seconds RetCode: 1 Status: ERROR PackageFile: None PackageFileSize: NA