Package: densvis Version: 1.7.1 Command: /Library/Frameworks/R.framework/Resources/bin/R CMD INSTALL densvis StartedAt: 2022-07-10 15:20:35 -0400 (Sun, 10 Jul 2022) EndedAt: 2022-07-10 15:21:12 -0400 (Sun, 10 Jul 2022) EllapsedTime: 37.0 seconds RetCode: 0 Status: OK