Package: dmrseq Version: 1.18.1 Command: /Library/Frameworks/R.framework/Resources/bin/R CMD build --keep-empty-dirs --no-resave-data dmrseq StartedAt: 2023-04-10 16:24:47 -0400 (Mon, 10 Apr 2023) EndedAt: 2023-04-10 16:27:28 -0400 (Mon, 10 Apr 2023) EllapsedTime: 160.9 seconds RetCode: 0 Status: OK PackageFile: dmrseq_1.18.1.tar.gz PackageFileSize: 2.781 MiB